BEGIN:VCALENDAR
VERSION:2.0
PRODID:-//Plone.org//NONSGML plone.app.event//EN
X-WR-TIMEZONE:Brazil/East
BEGIN:VEVENT
SUMMARY:SEMINÁRIO DE LANÇAMENTO DO MUNÍCIPIO  DA PRIMEIRA INFÂNCIA DA 
 SECRETARIA MUNICIPAL DE DESENVOLVIMENTO SOCIAL E HUMANO.
DTSTART;TZID=Brazil/East;VALUE=DATE-TIME:20230828T080000
DTEND;TZID=Brazil/East;VALUE=DATE-TIME:20230828T180000
DTSTAMP;VALUE=DATE-TIME:20260423T030801Z
UID:d59a59e4fa8742d0b9454b142c725a58@www.goiania.go.leg.br
CONTACT:VEREADOR ISAÍAS RIBEIRO
CREATED;VALUE=DATE-TIME:20230811T115046Z
LAST-MODIFIED;VALUE=DATE-TIME:20230811T115058Z
LOCATION:AUDITÓRIO CARLOS EURICO
URL:https://www.goiania.go.leg.br/sala-de-imprensa/eventos/seminario-de-la
 ncamento-do-municipio-da-primeira-infancia-da-secretaria-municipal-de-dese
 nvolvimento-social-e-humano
END:VEVENT
BEGIN:VTIMEZONE
TZID:Brazil/East
X-LIC-LOCATION:Brazil/East
BEGIN:STANDARD
DTSTART;VALUE=DATE-TIME:20230225T230000
TZNAME:BRT
TZOFFSETFROM:-0200
TZOFFSETTO:-0300
END:STANDARD
END:VTIMEZONE
END:VCALENDAR
