BEGIN:VCALENDAR
VERSION:2.0
PRODID:-//Plone.org//NONSGML plone.app.event//EN
X-WR-TIMEZONE:Brazil/East
BEGIN:VEVENT
SUMMARY:SEMINÁRIO DE ATENÇÃO À SAÚDE MENTAL DE CRIANÇAS E JOVENS.
DTSTART;TZID=Brazil/East;VALUE=DATE-TIME:20220630T080000
DTEND;TZID=Brazil/East;VALUE=DATE-TIME:20220630T180000
DTSTAMP;VALUE=DATE-TIME:20260421T030321Z
UID:f305f06af65b43e19d0a622fab68a03d@www.goiania.go.leg.br
CONTACT:VEREADORA SABRINA GARCÊZ
CREATED;VALUE=DATE-TIME:20220525T124719Z
LAST-MODIFIED;VALUE=DATE-TIME:20220530T112124Z
LOCATION:AUDITÓRIO CARLOS EURICO
URL:https://www.goiania.go.leg.br/sala-de-imprensa/eventos/seminario-de-at
 encao-a-saude-mental-de-criancas-e-jovens-1
END:VEVENT
BEGIN:VTIMEZONE
TZID:Brazil/East
X-LIC-LOCATION:Brazil/East
BEGIN:STANDARD
DTSTART;VALUE=DATE-TIME:20220219T230000
TZNAME:BRT
TZOFFSETFROM:-0200
TZOFFSETTO:-0300
END:STANDARD
END:VTIMEZONE
END:VCALENDAR
