BEGIN:VCALENDAR
VERSION:2.0
PRODID:-//Plone.org//NONSGML plone.app.event//EN
X-WR-TIMEZONE:Brazil/East
BEGIN:VEVENT
SUMMARY:SEMINÁRIO DAS MULHERES DO PT.
DTSTART;TZID=Brazil/East;VALUE=DATE-TIME:20250301T080000
DTEND;TZID=Brazil/East;VALUE=DATE-TIME:20250301T140000
DTSTAMP;VALUE=DATE-TIME:20260422T142005Z
UID:d0cf4b2ddbc64e818a74dd6fba8bed37@www.goiania.go.leg.br
CONTACT:VEREADOR FABRICIO ROSA
CREATED;VALUE=DATE-TIME:20250225T122241Z
LAST-MODIFIED;VALUE=DATE-TIME:20250225T122320Z
LOCATION:AUDITÓRIO JAIME CÂMARA
URL:https://www.goiania.go.leg.br/sala-de-imprensa/eventos/seminario-das-m
 ulheres-do-pt
END:VEVENT
BEGIN:VTIMEZONE
TZID:Brazil/East
X-LIC-LOCATION:Brazil/East
BEGIN:STANDARD
DTSTART;VALUE=DATE-TIME:20250215T230000
TZNAME:BRT
TZOFFSETFROM:-0200
TZOFFSETTO:-0300
END:STANDARD
END:VTIMEZONE
END:VCALENDAR
