BEGIN:VCALENDAR
VERSION:2.0
PRODID:-//Plone.org//NONSGML plone.app.event//EN
X-WR-TIMEZONE:Brazil/East
BEGIN:VEVENT
SUMMARY:SEMINÁRIO DA SAÚDE E SEGURANÇA DO TRABALHADOR NA EDUCAÇÃO.
DTSTART;TZID=Brazil/East;VALUE=DATE-TIME:20161018T070000
DTEND;TZID=Brazil/East;VALUE=DATE-TIME:20161018T180000
DTSTAMP;VALUE=DATE-TIME:20260424T232258Z
UID:54117f2661df457ab6f20afb89926e35@www.goiania.go.leg.br
CONTACT:VEREADOR ANSELMO PEREIRA
CREATED;VALUE=DATE-TIME:20171208T111312Z
LAST-MODIFIED;VALUE=DATE-TIME:20171208T112923Z
LOCATION:AUDITÓRIO JAIME CÂMARA
URL:https://www.goiania.go.leg.br/sala-de-imprensa/eventos/seminario-da-sa
 ude-e-seguranca-do-trabalhador-na-educacao
END:VEVENT
BEGIN:VTIMEZONE
TZID:Brazil/East
X-LIC-LOCATION:Brazil/East
BEGIN:DAYLIGHT
DTSTART;VALUE=DATE-TIME:20161016T010000
TZNAME:BRST
TZOFFSETFROM:-0300
TZOFFSETTO:-0200
END:DAYLIGHT
END:VTIMEZONE
END:VCALENDAR
