BEGIN:VCALENDAR
VERSION:2.0
PRODID:-//Plone.org//NONSGML plone.app.event//EN
X-WR-TIMEZONE:Brazil/East
BEGIN:VEVENT
SUMMARY:SEMINÁRIO DA SAÚDE DO HOMEM.
DTSTART;TZID=Brazil/East;VALUE=DATE-TIME:20191106T080000
DTEND;TZID=Brazil/East;VALUE=DATE-TIME:20191106T123000
DTSTAMP;VALUE=DATE-TIME:20260421T180029Z
UID:33aa908160c64e2e98a2451a88fd60ab@www.goiania.go.leg.br
CONTACT:FÁTIMA MRUÉ
CREATED;VALUE=DATE-TIME:20191029T101855Z
LAST-MODIFIED;VALUE=DATE-TIME:20191029T101932Z
LOCATION:AUDITÓRIO CARLOS EURICO
URL:https://www.goiania.go.leg.br/sala-de-imprensa/eventos/seminario-da-sa
 ude-do-homem
END:VEVENT
BEGIN:VTIMEZONE
TZID:Brazil/East
X-LIC-LOCATION:Brazil/East
BEGIN:DAYLIGHT
DTSTART;VALUE=DATE-TIME:20191020T010000
TZNAME:BRST
TZOFFSETFROM:-0300
TZOFFSETTO:-0200
END:DAYLIGHT
END:VTIMEZONE
END:VCALENDAR
