BEGIN:VCALENDAR
VERSION:2.0
PRODID:-//Plone.org//NONSGML plone.app.event//EN
X-WR-TIMEZONE:Brazil/East
BEGIN:VEVENT
SUMMARY:SEMINÁRIO DA PROCURADORIA DO MUNICÍPIO DE GOIÂNIA.
DTSTART;TZID=Brazil/East;VALUE=DATE-TIME:20190611T143000
DTEND;TZID=Brazil/East;VALUE=DATE-TIME:20190611T180000
DTSTAMP;VALUE=DATE-TIME:20260424T094809Z
UID:9aace6cff5ce4b79ad8111e241493367@www.goiania.go.leg.br
CONTACT:VEREADOR ANSELMO PEREIRA
CREATED;VALUE=DATE-TIME:20190528T221312Z
LAST-MODIFIED;VALUE=DATE-TIME:20190528T221320Z
LOCATION:AUDITÓRIO CARLOS EURICO
URL:https://www.goiania.go.leg.br/sala-de-imprensa/eventos/seminario-da-pr
 ocuradoria-do-municipio-de-goiania
END:VEVENT
BEGIN:VTIMEZONE
TZID:Brazil/East
X-LIC-LOCATION:Brazil/East
BEGIN:STANDARD
DTSTART;VALUE=DATE-TIME:20190216T230000
TZNAME:BRT
TZOFFSETFROM:-0200
TZOFFSETTO:-0300
END:STANDARD
END:VTIMEZONE
END:VCALENDAR
