BEGIN:VCALENDAR
VERSION:2.0
PRODID:-//Plone.org//NONSGML plone.app.event//EN
X-WR-TIMEZONE:Brazil/East
BEGIN:VEVENT
SUMMARY:Seminário da Categoria Fiscal- SINDIFISC
DTSTART;TZID=Brazil/East;VALUE=DATE-TIME:20170519T080000
DTEND;TZID=Brazil/East;VALUE=DATE-TIME:20170519T220000
DTSTAMP;VALUE=DATE-TIME:20260424T232256Z
UID:7be6fa76f6bb4071b8eab6404321ced1@www.goiania.go.leg.br
CONTACT:Ver. Andrey Azeredo
CREATED;VALUE=DATE-TIME:20171208T111312Z
LAST-MODIFIED;VALUE=DATE-TIME:20171208T112928Z
LOCATION:Auditório Jaime Cãmara
URL:https://www.goiania.go.leg.br/sala-de-imprensa/eventos/seminario-da-ca
 tegoria-fiscal-sindifisc
END:VEVENT
BEGIN:VTIMEZONE
TZID:Brazil/East
X-LIC-LOCATION:Brazil/East
BEGIN:STANDARD
DTSTART;VALUE=DATE-TIME:20170218T230000
TZNAME:BRT
TZOFFSETFROM:-0200
TZOFFSETTO:-0300
END:STANDARD
END:VTIMEZONE
END:VCALENDAR
