BEGIN:VCALENDAR
VERSION:2.0
PRODID:-//Plone.org//NONSGML plone.app.event//EN
X-WR-TIMEZONE:Brazil/East
BEGIN:VEVENT
SUMMARY:SEMINÁRIO: AS POLÍTICAS PÚBLICAS DE SAÚDE BUCAL EM GOIÂNIA".
DTSTART;TZID=Brazil/East;VALUE=DATE-TIME:20210422T150000
DTEND;TZID=Brazil/East;VALUE=DATE-TIME:20210422T170000
DTSTAMP;VALUE=DATE-TIME:20260421T200912Z
UID:a03b8f9f8da7467082b3f92640678706@www.goiania.go.leg.br
CONTACT:VEREADOR MAURO RUBEM
CREATED;VALUE=DATE-TIME:20210414T123646Z
LAST-MODIFIED;VALUE=DATE-TIME:20210414T123655Z
LOCATION:SALA DE REUNIÃO DAS COMISSÕES
URL:https://www.goiania.go.leg.br/sala-de-imprensa/eventos/seminario-as-po
 liticas-publicas-de-saude-bucal-em-goiania
END:VEVENT
BEGIN:VTIMEZONE
TZID:Brazil/East
X-LIC-LOCATION:Brazil/East
BEGIN:STANDARD
DTSTART;VALUE=DATE-TIME:20210220T230000
TZNAME:BRT
TZOFFSETFROM:-0200
TZOFFSETTO:-0300
END:STANDARD
END:VTIMEZONE
END:VCALENDAR
