BEGIN:VCALENDAR
VERSION:2.0
PRODID:-//Plone.org//NONSGML plone.app.event//EN
X-WR-TIMEZONE:Brazil/East
BEGIN:VEVENT
SUMMARY:SEMANA INTERNA DE PREVENÇÃO DE ACIDENTES DE TRABALHO - SIPAT.
DTSTART;TZID=Brazil/East;VALUE=DATE-TIME:20250617T190000
DTEND;TZID=Brazil/East;VALUE=DATE-TIME:20250617T220000
DTSTAMP;VALUE=DATE-TIME:20260419T145806Z
UID:332481b9177c4622aded4d624524ac2c@www.goiania.go.leg.br
CONTACT:VEREADOR ANSELMO PEREIRA
CREATED;VALUE=DATE-TIME:20250415T214246Z
LAST-MODIFIED;VALUE=DATE-TIME:20250415T214255Z
LOCATION:AUDITÓRIO CARLOS EURICO
URL:https://www.goiania.go.leg.br/sala-de-imprensa/eventos/semana-interna-
 de-prevencao-de-acidentes-de-trabalho-sipat
END:VEVENT
BEGIN:VTIMEZONE
TZID:Brazil/East
X-LIC-LOCATION:Brazil/East
BEGIN:STANDARD
DTSTART;VALUE=DATE-TIME:20250215T230000
TZNAME:BRT
TZOFFSETFROM:-0200
TZOFFSETTO:-0300
END:STANDARD
END:VTIMEZONE
END:VCALENDAR
