BEGIN:VCALENDAR
VERSION:2.0
PRODID:-//Plone.org//NONSGML plone.app.event//EN
X-WR-TIMEZONE:Brazil/East
BEGIN:VEVENT
SUMMARY:SEMANA DO APRENDIZ.
DTSTART;TZID=Brazil/East;VALUE=DATE-TIME:20200413T070000
DTEND;TZID=Brazil/East;VALUE=DATE-TIME:20200413T180000
DTSTAMP;VALUE=DATE-TIME:20260421T111754Z
UID:e4bf6bc232f747338a12de35904c4318@www.goiania.go.leg.br
CONTACT:ALICIONE CAFÉ LIMA
CREATED;VALUE=DATE-TIME:20200203T154032Z
LAST-MODIFIED;VALUE=DATE-TIME:20200203T154039Z
LOCATION:AUDITÓRIO JAIME CÂMARA
URL:https://www.goiania.go.leg.br/sala-de-imprensa/eventos/semana-do-apren
 diz-8
END:VEVENT
BEGIN:VTIMEZONE
TZID:Brazil/East
X-LIC-LOCATION:Brazil/East
BEGIN:STANDARD
DTSTART;VALUE=DATE-TIME:20200215T230000
TZNAME:BRT
TZOFFSETFROM:-0200
TZOFFSETTO:-0300
END:STANDARD
END:VTIMEZONE
END:VCALENDAR
