BEGIN:VCALENDAR
VERSION:2.0
PRODID:-//Plone.org//NONSGML plone.app.event//EN
X-WR-TIMEZONE:Brazil/East
BEGIN:VEVENT
SUMMARY:SEMANA DO APRENDIZ
DTSTART;TZID=Brazil/East;VALUE=DATE-TIME:20190423T133000
DTEND;TZID=Brazil/East;VALUE=DATE-TIME:20190423T173000
DTSTAMP;VALUE=DATE-TIME:20260424T164240Z
UID:eb1d82a39cc145239b2ac20e1169d64c@www.goiania.go.leg.br
CONTACT:ALICIONE CAFÉ LIMA
CREATED;VALUE=DATE-TIME:20190403T221750Z
LAST-MODIFIED;VALUE=DATE-TIME:20190403T221755Z
LOCATION:AUDITÓRIO JAIME CÂMARA
URL:https://www.goiania.go.leg.br/sala-de-imprensa/eventos/semana-do-apren
 diz-5
END:VEVENT
BEGIN:VTIMEZONE
TZID:Brazil/East
X-LIC-LOCATION:Brazil/East
BEGIN:STANDARD
DTSTART;VALUE=DATE-TIME:20190216T230000
TZNAME:BRT
TZOFFSETFROM:-0200
TZOFFSETTO:-0300
END:STANDARD
END:VTIMEZONE
END:VCALENDAR
