BEGIN:VCALENDAR
VERSION:2.0
PRODID:-//Plone.org//NONSGML plone.app.event//EN
X-WR-TIMEZONE:Brazil/East
BEGIN:VEVENT
SUMMARY:"SARAU FLOR DO PEQUI".
DTSTART;TZID=Brazil/East;VALUE=DATE-TIME:20241212T170000
DTEND;TZID=Brazil/East;VALUE=DATE-TIME:20241212T200000
DTSTAMP;VALUE=DATE-TIME:20260423T030330Z
UID:dc8b7037e07646c3b41c3aca95afe3d2@www.goiania.go.leg.br
CONTACT:VEREADOR PAULO MAGALHÃES
CREATED;VALUE=DATE-TIME:20241129T122147Z
LAST-MODIFIED;VALUE=DATE-TIME:20241129T122200Z
LOCATION:AUDITÓRIO CARLOS EURICO
URL:https://www.goiania.go.leg.br/sala-de-imprensa/eventos/sarau-flor-do-p
 equi
END:VEVENT
BEGIN:VTIMEZONE
TZID:Brazil/East
X-LIC-LOCATION:Brazil/East
BEGIN:DAYLIGHT
DTSTART;VALUE=DATE-TIME:20241020T010000
TZNAME:BRST
TZOFFSETFROM:-0300
TZOFFSETTO:-0200
END:DAYLIGHT
END:VTIMEZONE
END:VCALENDAR
