BEGIN:VCALENDAR
VERSION:2.0
PRODID:-//Plone.org//NONSGML plone.app.event//EN
X-WR-TIMEZONE:Brazil/East
BEGIN:VEVENT
SUMMARY:RODA DE CONVERSA SOBRE PREVENÇÃO AO SUICÍDIO.
DTSTART;TZID=Brazil/East;VALUE=DATE-TIME:20220916T090000
DTEND;TZID=Brazil/East;VALUE=DATE-TIME:20220916T110000
DTSTAMP;VALUE=DATE-TIME:20260422T165821Z
UID:cfce12e7c6ff422f97c789edfa30f6b8@www.goiania.go.leg.br
CONTACT:CASSANDRA ARRUDA DE SOUSA ARAÚJO
CREATED;VALUE=DATE-TIME:20220915T104142Z
LAST-MODIFIED;VALUE=DATE-TIME:20220915T104150Z
LOCATION:AUDITÓRIO CARLOS EURICO
URL:https://www.goiania.go.leg.br/sala-de-imprensa/eventos/roda-de-convers
 a-sobre-prevencao-ao-suicidio
END:VEVENT
BEGIN:VTIMEZONE
TZID:Brazil/East
X-LIC-LOCATION:Brazil/East
BEGIN:STANDARD
DTSTART;VALUE=DATE-TIME:20220219T230000
TZNAME:BRT
TZOFFSETFROM:-0200
TZOFFSETTO:-0300
END:STANDARD
END:VTIMEZONE
END:VCALENDAR
