BEGIN:VCALENDAR
VERSION:2.0
PRODID:-//Plone.org//NONSGML plone.app.event//EN
X-WR-TIMEZONE:Brazil/East
BEGIN:VEVENT
SUMMARY:REUNIÕES ONDE SERÃO DISCUTIDAS PROPOSTAS DO PLANO DE DIRETOR PAR
 A AS PESSOAS COM DEFICIÊNCIA.
DTSTART;TZID=Brazil/East;VALUE=DATE-TIME:20191001T083000
DTEND;TZID=Brazil/East;VALUE=DATE-TIME:20191001T110000
DTSTAMP;VALUE=DATE-TIME:20260422T003054Z
UID:f4fe581b8c454e38805323fa3910824e@www.goiania.go.leg.br
CONTACT:VEREADOR ÁLVARO DA UNIVERSO
CREATED;VALUE=DATE-TIME:20190920T142455Z
LAST-MODIFIED;VALUE=DATE-TIME:20190920T142501Z
LOCATION:SALA DE REUNIÃO DAS COMISSÕES
URL:https://www.goiania.go.leg.br/sala-de-imprensa/eventos/reunioes-onde-s
 erao-discutidas-propostas-do-plano-de-diretor-para-as-pessoas-com-deficien
 cia-5
END:VEVENT
BEGIN:VTIMEZONE
TZID:Brazil/East
X-LIC-LOCATION:Brazil/East
BEGIN:STANDARD
DTSTART;VALUE=DATE-TIME:20190216T230000
TZNAME:BRT
TZOFFSETFROM:-0200
TZOFFSETTO:-0300
END:STANDARD
END:VTIMEZONE
END:VCALENDAR
