BEGIN:VCALENDAR
VERSION:2.0
PRODID:-//Plone.org//NONSGML plone.app.event//EN
X-WR-TIMEZONE:Brazil/East
BEGIN:VEVENT
SUMMARY:REUNIÕES ONDE SERÃO DISCUTIDAS PROPOSTAS DO PLANO DE DIRETOR PAR
 A AS PESSOAS COM DEFICIÊNCIA.
DTSTART;TZID=Brazil/East;VALUE=DATE-TIME:20191025T083000
DTEND;TZID=Brazil/East;VALUE=DATE-TIME:20191025T110000
DTSTAMP;VALUE=DATE-TIME:20260422T003054Z
UID:4a78b296562a4d2d9bc1bf369a59fef7@www.goiania.go.leg.br
CONTACT:VEREADOR ÁLVARO DA UNIVERSO
CREATED;VALUE=DATE-TIME:20190920T142409Z
LAST-MODIFIED;VALUE=DATE-TIME:20190920T142413Z
LOCATION:SALA DE REUNIÃO DAS COMISSÕES
URL:https://www.goiania.go.leg.br/sala-de-imprensa/eventos/reunioes-onde-s
 erao-discutidas-propostas-do-plano-de-diretor-para-as-pessoas-com-deficien
 cia-4
END:VEVENT
BEGIN:VTIMEZONE
TZID:Brazil/East
X-LIC-LOCATION:Brazil/East
BEGIN:DAYLIGHT
DTSTART;VALUE=DATE-TIME:20191020T010000
TZNAME:BRST
TZOFFSETFROM:-0300
TZOFFSETTO:-0200
END:DAYLIGHT
END:VTIMEZONE
END:VCALENDAR
