BEGIN:VCALENDAR
VERSION:2.0
PRODID:-//Plone.org//NONSGML plone.app.event//EN
X-WR-TIMEZONE:Brazil/East
BEGIN:VEVENT
SUMMARY:REUNIÕES INTERNAS DE EQUIPE DO GABINETE 33.
DTSTART;TZID=Brazil/East;VALUE=DATE-TIME:20251201T130000
DTEND;TZID=Brazil/East;VALUE=DATE-TIME:20251201T170000
DTSTAMP;VALUE=DATE-TIME:20260422T081715Z
UID:8127bfced19449d8a8d551cf25f3b09e@www.goiania.go.leg.br
CONTACT:VEREADOR FABRICIO ROSA
CREATED;VALUE=DATE-TIME:20250910T142553Z
LAST-MODIFIED;VALUE=DATE-TIME:20250910T142625Z
LOCATION:SALA DE REUNIÃO DA PRESIDÊNCIA
URL:https://www.goiania.go.leg.br/sala-de-imprensa/eventos/reunioes-intern
 as-de-equipe-do-gabinete-33-11
END:VEVENT
BEGIN:VTIMEZONE
TZID:Brazil/East
X-LIC-LOCATION:Brazil/East
BEGIN:DAYLIGHT
DTSTART;VALUE=DATE-TIME:20251019T010000
TZNAME:BRST
TZOFFSETFROM:-0300
TZOFFSETTO:-0200
END:DAYLIGHT
END:VTIMEZONE
END:VCALENDAR
