BEGIN:VCALENDAR
VERSION:2.0
PRODID:-//Plone.org//NONSGML plone.app.event//EN
X-WR-TIMEZONE:Brazil/East
BEGIN:VEVENT
SUMMARY:REUNIÕES INTERNAS DE EQUIPE DO GABINETE 33.
DTSTART;TZID=Brazil/East;VALUE=DATE-TIME:20251202T130000
DTEND;TZID=Brazil/East;VALUE=DATE-TIME:20251202T170000
DTSTAMP;VALUE=DATE-TIME:20260420T093257Z
UID:4e960ec7b52449aabb3ccb848e0dcf5c@www.goiania.go.leg.br
CONTACT:VEREADOR FABRICIO ROSA
CREATED;VALUE=DATE-TIME:20250306T134823Z
LAST-MODIFIED;VALUE=DATE-TIME:20250306T134904Z
LOCATION:SALA DE REUNIÃO DA PRESIDÊNCIA
URL:https://www.goiania.go.leg.br/sala-de-imprensa/eventos/reunioes-intern
 as-de-equipe-do-gabinete-33-10
END:VEVENT
BEGIN:VTIMEZONE
TZID:Brazil/East
X-LIC-LOCATION:Brazil/East
BEGIN:DAYLIGHT
DTSTART;VALUE=DATE-TIME:20251019T010000
TZNAME:BRST
TZOFFSETFROM:-0300
TZOFFSETTO:-0200
END:DAYLIGHT
END:VTIMEZONE
END:VCALENDAR
