BEGIN:VCALENDAR
VERSION:2.0
PRODID:-//Plone.org//NONSGML plone.app.event//EN
X-WR-TIMEZONE:Brazil/East
BEGIN:VEVENT
SUMMARY:REUNIÕES DA COMISSÃO ESPECIAL DE INQUÉRITO (CEI) DOS FIOS SOLTO
 S DE GOIÂNIA.
DTSTART;TZID=Brazil/East;VALUE=DATE-TIME:20260317T140000
DTEND;TZID=Brazil/East;VALUE=DATE-TIME:20260317T180000
DTSTAMP;VALUE=DATE-TIME:20260419T120357Z
UID:f75c01e6d9c046f084b641c86fa1dfdb@www.goiania.go.leg.br
CONTACT:VEREADOR CORONEL URZEDA
CREATED;VALUE=DATE-TIME:20260305T211027Z
LAST-MODIFIED;VALUE=DATE-TIME:20260305T211128Z
LOCATION:SALA DE REUNIÕES DAS COMISSÕES
URL:https://www.goiania.go.leg.br/sala-de-imprensa/eventos/reunioes-da-com
 issao-especial-de-inquerito-cei-dos-fios-soltos-de-goiania-1
END:VEVENT
BEGIN:VTIMEZONE
TZID:Brazil/East
X-LIC-LOCATION:Brazil/East
BEGIN:STANDARD
DTSTART;VALUE=DATE-TIME:20260221T230000
TZNAME:BRT
TZOFFSETFROM:-0200
TZOFFSETTO:-0300
END:STANDARD
END:VTIMEZONE
END:VCALENDAR
