BEGIN:VCALENDAR
VERSION:2.0
PRODID:-//Plone.org//NONSGML plone.app.event//EN
X-WR-TIMEZONE:Brazil/East
BEGIN:VEVENT
SUMMARY:REUNIÃO SOBRE POPULAAÇÃO EM SITUAÇÃO DE RUA - POP RUA.
DTSTART;TZID=Brazil/East;VALUE=DATE-TIME:20260316T100000
DTEND;TZID=Brazil/East;VALUE=DATE-TIME:20260316T120000
DTSTAMP;VALUE=DATE-TIME:20260419T104359Z
UID:16b79db25a5b403f9f8aa09bab83f050@www.goiania.go.leg.br
CONTACT:VEREADORA KATIA
CREATED;VALUE=DATE-TIME:20260303T150448Z
LAST-MODIFIED;VALUE=DATE-TIME:20260303T150510Z
LOCATION:SALA DE REUNIÃO DA PRESIDÊNCIA
URL:https://www.goiania.go.leg.br/sala-de-imprensa/eventos/reuniao-sobre-p
 opulaacao-em-situacao-de-rua-pop-rua
END:VEVENT
BEGIN:VTIMEZONE
TZID:Brazil/East
X-LIC-LOCATION:Brazil/East
BEGIN:STANDARD
DTSTART;VALUE=DATE-TIME:20260221T230000
TZNAME:BRT
TZOFFSETFROM:-0200
TZOFFSETTO:-0300
END:STANDARD
END:VTIMEZONE
END:VCALENDAR
