BEGIN:VCALENDAR
VERSION:2.0
PRODID:-//Plone.org//NONSGML plone.app.event//EN
X-WR-TIMEZONE:Brazil/East
BEGIN:VEVENT
SUMMARY:REUNIÃO "RENASCIMENTO DO JÓQUEI CLUBE DE GOIÁS".
DTSTART;TZID=Brazil/East;VALUE=DATE-TIME:20191005T090000
DTEND;TZID=Brazil/East;VALUE=DATE-TIME:20191005T110000
DTSTAMP;VALUE=DATE-TIME:20260421T224711Z
UID:0910680f970649fb9bac92563895a5c8@www.goiania.go.leg.br
CONTACT:VEREADORA DRA. CRISTINA LOPES AFONSO
CREATED;VALUE=DATE-TIME:20191002T105326Z
LAST-MODIFIED;VALUE=DATE-TIME:20191002T231343Z
LOCATION:SALA DE REUNIÃO DAS COMISSÕES
URL:https://www.goiania.go.leg.br/sala-de-imprensa/eventos/reuniao-renasci
 mento-do-joquei-clube-de-goias
END:VEVENT
BEGIN:VTIMEZONE
TZID:Brazil/East
X-LIC-LOCATION:Brazil/East
BEGIN:STANDARD
DTSTART;VALUE=DATE-TIME:20190216T230000
TZNAME:BRT
TZOFFSETFROM:-0200
TZOFFSETTO:-0300
END:STANDARD
END:VTIMEZONE
END:VCALENDAR
