BEGIN:VCALENDAR
VERSION:2.0
PRODID:-//Plone.org//NONSGML plone.app.event//EN
X-WR-TIMEZONE:Brazil/East
BEGIN:VEVENT
SUMMARY:REUNIÃO PÚBLICA SOBRE A FEIRA HIPPIE COM A PARTICIPAÇÃO DA SEN
 HORA VALÉRIA MENESES PETTERSEN - SECRETÁRIA MUNICIPAL DE RELAÇÕES INST
 ITUCIONAIS.
DTSTART;TZID=Brazil/East;VALUE=DATE-TIME:20210707T140000
DTEND;TZID=Brazil/East;VALUE=DATE-TIME:20210707T160000
DTSTAMP;VALUE=DATE-TIME:20260420T172949Z
UID:1a87c65b75fb430e85b48345f7c89ef4@www.goiania.go.leg.br
CONTACT:VEREADOR MAURO RUBEM
CREATED;VALUE=DATE-TIME:20210629T145326Z
LAST-MODIFIED;VALUE=DATE-TIME:20210629T145404Z
LOCATION:SALA DE REUNIÃO DAS COMISSÕES
URL:https://www.goiania.go.leg.br/sala-de-imprensa/eventos/reuniao-publica
 -sobre-a-feira-hippie-com-a-participacao-da-senhora-valeria-meneses-petter
 sen-secretaria-municipal-de-relacoes-institucionais
END:VEVENT
BEGIN:VTIMEZONE
TZID:Brazil/East
X-LIC-LOCATION:Brazil/East
BEGIN:STANDARD
DTSTART;VALUE=DATE-TIME:20210220T230000
TZNAME:BRT
TZOFFSETFROM:-0200
TZOFFSETTO:-0300
END:STANDARD
END:VTIMEZONE
END:VCALENDAR
