BEGIN:VCALENDAR
VERSION:2.0
PRODID:-//Plone.org//NONSGML plone.app.event//EN
X-WR-TIMEZONE:Brazil/East
BEGIN:VEVENT
SUMMARY:REUNIÃO PRESENCIAL COM A  PARTICIPAÇÃO DO COLETIVO DO DISTRITO 
 NOROESTE DO SINDSAÚDE.
DTSTART;TZID=Brazil/East;VALUE=DATE-TIME:20210902T170000
DTEND;TZID=Brazil/East;VALUE=DATE-TIME:20210902T190000
DTSTAMP;VALUE=DATE-TIME:20260419T214902Z
UID:d56d7c4768af468a89974789a2c0a241@www.goiania.go.leg.br
CONTACT:VEREADOR MAURO RUBEM
CREATED;VALUE=DATE-TIME:20210902T110124Z
LAST-MODIFIED;VALUE=DATE-TIME:20210902T110148Z
LOCATION:SALA DE REUNIÃO DAS COMISSÕES
URL:https://www.goiania.go.leg.br/sala-de-imprensa/eventos/reuniao-presenc
 ial-com-a-participacao-do-coletivo-do-distrito-noroeste-do-sindsaude
END:VEVENT
BEGIN:VTIMEZONE
TZID:Brazil/East
X-LIC-LOCATION:Brazil/East
BEGIN:STANDARD
DTSTART;VALUE=DATE-TIME:20210220T230000
TZNAME:BRT
TZOFFSETFROM:-0200
TZOFFSETTO:-0300
END:STANDARD
END:VTIMEZONE
END:VCALENDAR
