BEGIN:VCALENDAR
VERSION:2.0
PRODID:-//Plone.org//NONSGML plone.app.event//EN
X-WR-TIMEZONE:Brazil/East
BEGIN:VEVENT
SUMMARY:REUNIÃO PRESENCIAL COM A PARTICIPAÇÃO DA ENTIDADE MASF - MISSÃ
 O AMAR SEM FRONTEIRAS.
DTSTART;TZID=Brazil/East;VALUE=DATE-TIME:20211021T140000
DTEND;TZID=Brazil/East;VALUE=DATE-TIME:20211021T160000
DTSTAMP;VALUE=DATE-TIME:20260425T083412Z
UID:32b8322c36e94d23a231a8fb5fe45ac8@www.goiania.go.leg.br
CONTACT:VEREADOR MAURO RUBEM
CREATED;VALUE=DATE-TIME:20211013T130920Z
LAST-MODIFIED;VALUE=DATE-TIME:20211013T131015Z
LOCATION:SALA DE REUNIÃO DAS COMISSÕES
URL:https://www.goiania.go.leg.br/sala-de-imprensa/eventos/reuniao-presenc
 ial-com-a-participacao-da-entidade-masf-missao-amar-sem-fronteiras-1
END:VEVENT
BEGIN:VTIMEZONE
TZID:Brazil/East
X-LIC-LOCATION:Brazil/East
BEGIN:DAYLIGHT
DTSTART;VALUE=DATE-TIME:20211017T010000
TZNAME:BRST
TZOFFSETFROM:-0300
TZOFFSETTO:-0200
END:DAYLIGHT
END:VTIMEZONE
END:VCALENDAR
