BEGIN:VCALENDAR
VERSION:2.0
PRODID:-//Plone.org//NONSGML plone.app.event//EN
X-WR-TIMEZONE:Brazil/East
BEGIN:VEVENT
SUMMARY:REUNIÃO PARA TRATAR DE ASSUNTOS LIGADOS A SECRETARIA ESTADUAL DE 
 EDUCAÇÃO.
DTSTART;TZID=Brazil/East;VALUE=DATE-TIME:20230428T190000
DTEND;TZID=Brazil/East;VALUE=DATE-TIME:20230428T210000
DTSTAMP;VALUE=DATE-TIME:20260420T082230Z
UID:036f6e2fa6b9418ebdb732e231576ff6@www.goiania.go.leg.br
CONTACT:VEREADOR WILLIAN VELOSO
CREATED;VALUE=DATE-TIME:20230427T144544Z
LAST-MODIFIED;VALUE=DATE-TIME:20230427T144557Z
LOCATION:SALA DE REUNIÃO DA PRESIDÊNCIA
URL:https://www.goiania.go.leg.br/sala-de-imprensa/eventos/reuniao-para-tr
 atar-de-assuntos-ligados-a-secretaria-estadual-de-educacao
END:VEVENT
BEGIN:VTIMEZONE
TZID:Brazil/East
X-LIC-LOCATION:Brazil/East
BEGIN:STANDARD
DTSTART;VALUE=DATE-TIME:20230225T230000
TZNAME:BRT
TZOFFSETFROM:-0200
TZOFFSETTO:-0300
END:STANDARD
END:VTIMEZONE
END:VCALENDAR
