BEGIN:VCALENDAR
VERSION:2.0
PRODID:-//Plone.org//NONSGML plone.app.event//EN
X-WR-TIMEZONE:Brazil/East
BEGIN:VEVENT
SUMMARY:REUNIÃO PARA TRATAR DE ASSUNTOS ACERCA DO GOIÂNIA DIGITAL.
DTSTART;TZID=Brazil/East;VALUE=DATE-TIME:20210916T140000
DTEND;TZID=Brazil/East;VALUE=DATE-TIME:20210916T163000
DTSTAMP;VALUE=DATE-TIME:20260419T133038Z
UID:b6457c98e8584e08a03b7a108150de8a@www.goiania.go.leg.br
CONTACT:VEREADOR THIALU GUIOTTI
CREATED;VALUE=DATE-TIME:20210916T102327Z
LAST-MODIFIED;VALUE=DATE-TIME:20210916T102340Z
LOCATION:SALA DE REUNIÃO DAS COMISSÕES
URL:https://www.goiania.go.leg.br/sala-de-imprensa/eventos/reuniao-para-tr
 atar-de-assuntos-acerca-do-goiania-digital
END:VEVENT
BEGIN:VTIMEZONE
TZID:Brazil/East
X-LIC-LOCATION:Brazil/East
BEGIN:STANDARD
DTSTART;VALUE=DATE-TIME:20210220T230000
TZNAME:BRT
TZOFFSETFROM:-0200
TZOFFSETTO:-0300
END:STANDARD
END:VTIMEZONE
END:VCALENDAR
