BEGIN:VCALENDAR
VERSION:2.0
PRODID:-//Plone.org//NONSGML plone.app.event//EN
X-WR-TIMEZONE:Brazil/East
BEGIN:VEVENT
SUMMARY:REUNIÃO PARA DISCUTIR E DEBATER O AUMENTO DE GÁS.
DTSTART;TZID=Brazil/East;VALUE=DATE-TIME:20210921T173000
DTEND;TZID=Brazil/East;VALUE=DATE-TIME:20210921T190000
DTSTAMP;VALUE=DATE-TIME:20260423T143222Z
UID:3a0f76ee0b234e39b525b83fc4b3f65a@www.goiania.go.leg.br
CONTACT:Vereador Mauro Rubem
CREATED;VALUE=DATE-TIME:20210920T200505Z
LAST-MODIFIED;VALUE=DATE-TIME:20210920T200513Z
LOCATION:SALA DAS COMISSÕES
URL:https://www.goiania.go.leg.br/sala-de-imprensa/eventos/reuniao-para-di
 scutir-e-debater-o-aumento-de-gas
END:VEVENT
BEGIN:VTIMEZONE
TZID:Brazil/East
X-LIC-LOCATION:Brazil/East
BEGIN:STANDARD
DTSTART;VALUE=DATE-TIME:20210220T230000
TZNAME:BRT
TZOFFSETFROM:-0200
TZOFFSETTO:-0300
END:STANDARD
END:VTIMEZONE
END:VCALENDAR
