BEGIN:VCALENDAR
VERSION:2.0
PRODID:-//Plone.org//NONSGML plone.app.event//EN
X-WR-TIMEZONE:Brazil/East
BEGIN:VEVENT
SUMMARY:REUNIÃO PARA DISCUTIR ASSUNTOS REFERENTE AO GABINETE.
DTSTART;TZID=Brazil/East;VALUE=DATE-TIME:20200206T090000
DTEND;TZID=Brazil/East;VALUE=DATE-TIME:20200206T160000
DTSTAMP;VALUE=DATE-TIME:20260421T112117Z
UID:721680400a134dc3afe608b7b137f406@www.goiania.go.leg.br
CONTACT:VEREADOR DR. PAULO DAHER
CREATED;VALUE=DATE-TIME:20200203T152312Z
LAST-MODIFIED;VALUE=DATE-TIME:20200203T152326Z
LOCATION:SALA DE REUNIÃO DAS COMISSÕES
URL:https://www.goiania.go.leg.br/sala-de-imprensa/eventos/reuniao-para-di
 scutir-assuntos-referente-ao-gabinete
END:VEVENT
BEGIN:VTIMEZONE
TZID:Brazil/East
X-LIC-LOCATION:Brazil/East
BEGIN:DAYLIGHT
DTSTART;VALUE=DATE-TIME:20191020T010000
TZNAME:BRST
TZOFFSETFROM:-0300
TZOFFSETTO:-0200
END:DAYLIGHT
END:VTIMEZONE
END:VCALENDAR
