BEGIN:VCALENDAR
VERSION:2.0
PRODID:-//Plone.org//NONSGML plone.app.event//EN
X-WR-TIMEZONE:Brazil/East
BEGIN:VEVENT
SUMMARY:REUNIÃO PARA DISCUSSÃO TÉCNICA SOBRE EMENDA A SER APRESENTADA A
 O PROJETO DO NOVO PLANO DIRETOR.
DTSTART;TZID=Brazil/East;VALUE=DATE-TIME:20191017T140000
DTEND;TZID=Brazil/East;VALUE=DATE-TIME:20191017T170000
DTSTAMP;VALUE=DATE-TIME:20260421T224844Z
UID:60c650d99d1e48eda3b9bd8073b69120@www.goiania.go.leg.br
CONTACT:VEREADOR PAULO MAGALHÃES
CREATED;VALUE=DATE-TIME:20191008T140827Z
LAST-MODIFIED;VALUE=DATE-TIME:20191008T140909Z
LOCATION:SALA DE REUNIÃO DAS COMISSÕES
URL:https://www.goiania.go.leg.br/sala-de-imprensa/eventos/reuniao-para-di
 scussao-tecnica-sobre-emenda-a-ser-apresentada-ao-projeto-do-novo-plano-di
 retor
END:VEVENT
BEGIN:VTIMEZONE
TZID:Brazil/East
X-LIC-LOCATION:Brazil/East
BEGIN:STANDARD
DTSTART;VALUE=DATE-TIME:20190216T230000
TZNAME:BRT
TZOFFSETFROM:-0200
TZOFFSETTO:-0300
END:STANDARD
END:VTIMEZONE
END:VCALENDAR
