BEGIN:VCALENDAR
VERSION:2.0
PRODID:-//Plone.org//NONSGML plone.app.event//EN
X-WR-TIMEZONE:Brazil/East
BEGIN:VEVENT
SUMMARY:REUNIÃO PARA ALINHAMENTO DA EQUIPE DO GABINETE 17.
DTSTART;TZID=Brazil/East;VALUE=DATE-TIME:20231218T150000
DTEND;TZID=Brazil/East;VALUE=DATE-TIME:20231218T220000
DTSTAMP;VALUE=DATE-TIME:20260420T131618Z
UID:b86bc06f750d430d9550ffddce6fbad1@www.goiania.go.leg.br
CONTACT:VEREADOR CABO SENNA
CREATED;VALUE=DATE-TIME:20231214T135347Z
LAST-MODIFIED;VALUE=DATE-TIME:20231214T135358Z
LOCATION:SALA DE REUNIÃO DAS COMISSÕES
URL:https://www.goiania.go.leg.br/sala-de-imprensa/eventos/reuniao-para-al
 inhamento-da-equipe-do-gabinete-17-1
END:VEVENT
BEGIN:VTIMEZONE
TZID:Brazil/East
X-LIC-LOCATION:Brazil/East
BEGIN:DAYLIGHT
DTSTART;VALUE=DATE-TIME:20231015T010000
TZNAME:BRST
TZOFFSETFROM:-0300
TZOFFSETTO:-0200
END:DAYLIGHT
END:VTIMEZONE
END:VCALENDAR
