BEGIN:VCALENDAR
VERSION:2.0
PRODID:-//Plone.org//NONSGML plone.app.event//EN
X-WR-TIMEZONE:Brazil/East
BEGIN:VEVENT
SUMMARY:REUNIÃO PARA A EQUIPE.
DTSTART;TZID=Brazil/East;VALUE=DATE-TIME:20230217T083000
DTEND;TZID=Brazil/East;VALUE=DATE-TIME:20230217T110000
DTSTAMP;VALUE=DATE-TIME:20260420T131417Z
UID:6aa956406a79430db570aa9d61f64451@www.goiania.go.leg.br
CONTACT:VEREADOR JOÃOZINHO GUIMARÃES
CREATED;VALUE=DATE-TIME:20230215T200115Z
LAST-MODIFIED;VALUE=DATE-TIME:20230215T200202Z
LOCATION:AUDITÓRIO CARLOS EURICO
URL:https://www.goiania.go.leg.br/sala-de-imprensa/eventos/reuniao-para-a-
 equipe
END:VEVENT
BEGIN:VTIMEZONE
TZID:Brazil/East
X-LIC-LOCATION:Brazil/East
BEGIN:DAYLIGHT
DTSTART;VALUE=DATE-TIME:20221016T010000
TZNAME:BRST
TZOFFSETFROM:-0300
TZOFFSETTO:-0200
END:DAYLIGHT
END:VTIMEZONE
END:VCALENDAR
