BEGIN:VCALENDAR
VERSION:2.0
PRODID:-//Plone.org//NONSGML plone.app.event//EN
X-WR-TIMEZONE:Brazil/East
BEGIN:VEVENT
SUMMARY:REUNIÃO ORGANIZADA PELO SIMSED - SINDICATO DOS SERVIDORES DA EDUC
 AÇÃO\, PARA USO DO COMANDO DE GREVE.
DTSTART;TZID=Brazil/East;VALUE=DATE-TIME:20220406T080000
DTEND;TZID=Brazil/East;VALUE=DATE-TIME:20220406T120000
DTSTAMP;VALUE=DATE-TIME:20260421T230702Z
UID:4afc870c30114d89893295d3af0f58fc@www.goiania.go.leg.br
CONTACT:VEREADOR MAURO RUBEM
CREATED;VALUE=DATE-TIME:20220406T101753Z
LAST-MODIFIED;VALUE=DATE-TIME:20220406T101801Z
LOCATION:AUDITÓRIO CARLOS EURICO
URL:https://www.goiania.go.leg.br/sala-de-imprensa/eventos/reuniao-organiz
 ada-pelo-simsed-sindicato-dos-servidores-da-educacao-para-uso-do-comando-d
 e-greve
END:VEVENT
BEGIN:VTIMEZONE
TZID:Brazil/East
X-LIC-LOCATION:Brazil/East
BEGIN:STANDARD
DTSTART;VALUE=DATE-TIME:20220219T230000
TZNAME:BRT
TZOFFSETFROM:-0200
TZOFFSETTO:-0300
END:STANDARD
END:VTIMEZONE
END:VCALENDAR
