BEGIN:VCALENDAR
VERSION:2.0
PRODID:-//Plone.org//NONSGML plone.app.event//EN
X-WR-TIMEZONE:Brazil/East
BEGIN:VEVENT
SUMMARY:REUNIÃO ORDINÁRIAS DA COMISSÃO DE CULTURA.
DTSTART;TZID=Brazil/East;VALUE=DATE-TIME:20260611T080000
DTEND;TZID=Brazil/East;VALUE=DATE-TIME:20260611T090000
DTSTAMP;VALUE=DATE-TIME:20260422T110604Z
UID:55938a40f8a2452897944b64798d2610@www.goiania.go.leg.br
CONTACT:VEREADOR FABRICIO ROSA
CREATED;VALUE=DATE-TIME:20260303T151827Z
LAST-MODIFIED;VALUE=DATE-TIME:20260303T151849Z
LOCATION:SALA DE REUNIÃO DA PRESIDÊNCIA
URL:https://www.goiania.go.leg.br/sala-de-imprensa/eventos/reuniao-ordinar
 ias-da-comissao-de-cultura-9
END:VEVENT
BEGIN:VTIMEZONE
TZID:Brazil/East
X-LIC-LOCATION:Brazil/East
BEGIN:STANDARD
DTSTART;VALUE=DATE-TIME:20260221T230000
TZNAME:BRT
TZOFFSETFROM:-0200
TZOFFSETTO:-0300
END:STANDARD
END:VTIMEZONE
END:VCALENDAR
