BEGIN:VCALENDAR
VERSION:2.0
PRODID:-//Plone.org//NONSGML plone.app.event//EN
X-WR-TIMEZONE:Brazil/East
BEGIN:VEVENT
SUMMARY:REUNIÃO ORDINÁRIAS DA COMISSÃO DE CULTURA.
DTSTART;TZID=Brazil/East;VALUE=DATE-TIME:20261008T080000
DTEND;TZID=Brazil/East;VALUE=DATE-TIME:20261008T090000
DTSTAMP;VALUE=DATE-TIME:20260419T161738Z
UID:2ee292f54ba040daaf57ccfb8146c8ba@www.goiania.go.leg.br
CONTACT:VEREADOR FABRICIO ROSA
CREATED;VALUE=DATE-TIME:20260303T151512Z
LAST-MODIFIED;VALUE=DATE-TIME:20260303T151521Z
LOCATION:SALA DE REUNIÕES DO VEREADOR CARLOS SOARES
URL:https://www.goiania.go.leg.br/sala-de-imprensa/eventos/reuniao-ordinar
 ias-da-comissao-de-cultura-6
END:VEVENT
BEGIN:VTIMEZONE
TZID:Brazil/East
X-LIC-LOCATION:Brazil/East
BEGIN:STANDARD
DTSTART;VALUE=DATE-TIME:20260221T230000
TZNAME:BRT
TZOFFSETFROM:-0200
TZOFFSETTO:-0300
END:STANDARD
END:VTIMEZONE
END:VCALENDAR
