BEGIN:VCALENDAR
VERSION:2.0
PRODID:-//Plone.org//NONSGML plone.app.event//EN
X-WR-TIMEZONE:Brazil/East
BEGIN:VEVENT
SUMMARY:REUNIÃO ORDINÁRIAS DA COMISSÃO DE CULTURA.
DTSTART;TZID=Brazil/East;VALUE=DATE-TIME:20260813T080000
DTEND;TZID=Brazil/East;VALUE=DATE-TIME:20260813T090000
DTSTAMP;VALUE=DATE-TIME:20260420T103407Z
UID:9f109e933cdc47dc9dc27628d5d8b17e@www.goiania.go.leg.br
CONTACT:VEREADOR FABRICIO ROSA
CREATED;VALUE=DATE-TIME:20260303T151301Z
LAST-MODIFIED;VALUE=DATE-TIME:20260303T151322Z
LOCATION:SALA DE REUNIÕES DO VEREADOR CARLOS SOARES
URL:https://www.goiania.go.leg.br/sala-de-imprensa/eventos/reuniao-ordinar
 ias-da-comissao-de-cultura-4
END:VEVENT
BEGIN:VTIMEZONE
TZID:Brazil/East
X-LIC-LOCATION:Brazil/East
BEGIN:STANDARD
DTSTART;VALUE=DATE-TIME:20260221T230000
TZNAME:BRT
TZOFFSETFROM:-0200
TZOFFSETTO:-0300
END:STANDARD
END:VTIMEZONE
END:VCALENDAR
