BEGIN:VCALENDAR
VERSION:2.0
PRODID:-//Plone.org//NONSGML plone.app.event//EN
X-WR-TIMEZONE:Brazil/East
BEGIN:VEVENT
SUMMARY:REUNIÃO ORDINÁRIA DO CONSELHO DE ÉTICA E DECORO PARLAMENTAR.
DTSTART;TZID=Brazil/East;VALUE=DATE-TIME:20250918T140000
DTEND;TZID=Brazil/East;VALUE=DATE-TIME:20250918T180000
DTSTAMP;VALUE=DATE-TIME:20260420T201546Z
UID:ce56385677534448b56a7ba79b2acc4e@www.goiania.go.leg.br
CONTACT:VEREADOR RONILSON REIS
CREATED;VALUE=DATE-TIME:20250915T102749Z
LAST-MODIFIED;VALUE=DATE-TIME:20250915T102812Z
LOCATION:SALA DE REUNIÃO DAS COMISSÕES
URL:https://www.goiania.go.leg.br/sala-de-imprensa/eventos/reuniao-ordinar
 ia-do-conselho-de-etica-e-decoro-parlamentar
END:VEVENT
BEGIN:VTIMEZONE
TZID:Brazil/East
X-LIC-LOCATION:Brazil/East
BEGIN:STANDARD
DTSTART;VALUE=DATE-TIME:20250215T230000
TZNAME:BRT
TZOFFSETFROM:-0200
TZOFFSETTO:-0300
END:STANDARD
END:VTIMEZONE
END:VCALENDAR
