BEGIN:VCALENDAR
VERSION:2.0
PRODID:-//Plone.org//NONSGML plone.app.event//EN
X-WR-TIMEZONE:Brazil/East
BEGIN:VEVENT
SUMMARY:REUNIÃO ORDINÁRIA DA COMISSÃO ESPECIAL DE INQUÉRITO - ENEL.
DTSTART;TZID=Brazil/East;VALUE=DATE-TIME:20211116T140000
DTEND;TZID=Brazil/East;VALUE=DATE-TIME:20211116T160000
DTSTAMP;VALUE=DATE-TIME:20260422T171520Z
UID:3a50029b65da41ac8d0632683e81b724@www.goiania.go.leg.br
CONTACT:VEREADOR RAPHAEL DA SAÚDE
CREATED;VALUE=DATE-TIME:20211004T204916Z
LAST-MODIFIED;VALUE=DATE-TIME:20211004T204921Z
LOCATION:PLENÁRIO TRAJANO GUIMARÃES
URL:https://www.goiania.go.leg.br/sala-de-imprensa/eventos/reuniao-ordinar
 ia-da-comissao-especial-de-inquerito-enel-5
END:VEVENT
BEGIN:VTIMEZONE
TZID:Brazil/East
X-LIC-LOCATION:Brazil/East
BEGIN:DAYLIGHT
DTSTART;VALUE=DATE-TIME:20211017T010000
TZNAME:BRST
TZOFFSETFROM:-0300
TZOFFSETTO:-0200
END:DAYLIGHT
END:VTIMEZONE
END:VCALENDAR
