BEGIN:VCALENDAR
VERSION:2.0
PRODID:-//Plone.org//NONSGML plone.app.event//EN
X-WR-TIMEZONE:Brazil/East
BEGIN:VEVENT
SUMMARY:REUNIÃO ORDINÁRIA DA COMISSÃO DOS DIREITOS DO IDOSO.
DTSTART;TZID=Brazil/East;VALUE=DATE-TIME:20200901T080000
DTEND;TZID=Brazil/East;VALUE=DATE-TIME:20200901T090000
DTSTAMP;VALUE=DATE-TIME:20260425T082504Z
UID:34f5c2021e0546ac85b0effab470a8e5@www.goiania.go.leg.br
CONTACT:VEREADOR PAULO MAGALHÃES
CREATED;VALUE=DATE-TIME:20200831T142932Z
LAST-MODIFIED;VALUE=DATE-TIME:20200831T142947Z
LOCATION:SALA DE REUNIÃO DAS COMISSÕES
URL:https://www.goiania.go.leg.br/sala-de-imprensa/eventos/reuniao-ordinar
 ia-da-comissao-dos-direitos-do-idoso
END:VEVENT
BEGIN:VTIMEZONE
TZID:Brazil/East
X-LIC-LOCATION:Brazil/East
BEGIN:STANDARD
DTSTART;VALUE=DATE-TIME:20200215T230000
TZNAME:BRT
TZOFFSETFROM:-0200
TZOFFSETTO:-0300
END:STANDARD
END:VTIMEZONE
END:VCALENDAR
