BEGIN:VCALENDAR
VERSION:2.0
PRODID:-//Plone.org//NONSGML plone.app.event//EN
X-WR-TIMEZONE:Brazil/East
BEGIN:VEVENT
SUMMARY:REUNIÃO ORDINÁRIA DA COMISSÃO DE EMPREENDORISMO \, DESENVOLVIME
 NTO ECONÔMICO E SOCIAL - CEDES.
DTSTART;TZID=Brazil/East;VALUE=DATE-TIME:20190523T080000
DTEND;TZID=Brazil/East;VALUE=DATE-TIME:20190523T090000
DTSTAMP;VALUE=DATE-TIME:20260424T094950Z
UID:49f02d9c2913409598e8eb29d2fe3023@www.goiania.go.leg.br
CONTACT:SAMUEL PEQUENO LEMOS
CREATED;VALUE=DATE-TIME:20190521T214501Z
LAST-MODIFIED;VALUE=DATE-TIME:20190521T214508Z
LOCATION:SALA DE REUNIÃO DAS COMISSÕES
URL:https://www.goiania.go.leg.br/sala-de-imprensa/eventos/reuniao-ordinar
 ia-da-comissao-de-empreendorismo-desenvolvimento-economico-e-social-cedes
END:VEVENT
BEGIN:VTIMEZONE
TZID:Brazil/East
X-LIC-LOCATION:Brazil/East
BEGIN:STANDARD
DTSTART;VALUE=DATE-TIME:20190216T230000
TZNAME:BRT
TZOFFSETFROM:-0200
TZOFFSETTO:-0300
END:STANDARD
END:VTIMEZONE
END:VCALENDAR
