BEGIN:VCALENDAR
VERSION:2.0
PRODID:-//Plone.org//NONSGML plone.app.event//EN
X-WR-TIMEZONE:Brazil/East
BEGIN:VEVENT
SUMMARY:REUNIÃO ORDINÁRIA DA COMISSÃO DE EDUCAÇÃO\, CULTURA\, CIÊNCI
 A E TECNOLOGIA.
DTSTART;TZID=Brazil/East;VALUE=DATE-TIME:20220419T080000
DTEND;TZID=Brazil/East;VALUE=DATE-TIME:20220419T090000
DTSTAMP;VALUE=DATE-TIME:20260423T055134Z
UID:4b03616c66724b7a97ec4b0f5b09f5e4@www.goiania.go.leg.br
CONTACT:VEREADORA AAVA SANTIAGO
CREATED;VALUE=DATE-TIME:20220412T134536Z
LAST-MODIFIED;VALUE=DATE-TIME:20220412T134558Z
LOCATION:SALA DE REUNIÃO DAS COMISSÕES
URL:https://www.goiania.go.leg.br/sala-de-imprensa/eventos/reuniao-ordinar
 ia-da-comissao-de-educacao-cultura-ciencia-e-tecnologia-11
END:VEVENT
BEGIN:VTIMEZONE
TZID:Brazil/East
X-LIC-LOCATION:Brazil/East
BEGIN:STANDARD
DTSTART;VALUE=DATE-TIME:20220219T230000
TZNAME:BRT
TZOFFSETFROM:-0200
TZOFFSETTO:-0300
END:STANDARD
END:VTIMEZONE
END:VCALENDAR
