BEGIN:VCALENDAR
VERSION:2.0
PRODID:-//Plone.org//NONSGML plone.app.event//EN
X-WR-TIMEZONE:Brazil/East
BEGIN:VEVENT
SUMMARY:REUNIÃO ORDINÁRIA DA COMISSÃO DE CONSTITUIÇÃO\, JUSTIÇA E RE
 DAÇÃO  - (CCJR).
DTSTART;TZID=Brazil/East;VALUE=DATE-TIME:20251029T080000
DTEND;TZID=Brazil/East;VALUE=DATE-TIME:20251029T090000
DTSTAMP;VALUE=DATE-TIME:20260419T133340Z
UID:b3b1130762974f0da37bae05672c58fa@www.goiania.go.leg.br
CONTACT:VEREADOR LUAN ALVES
CREATED;VALUE=DATE-TIME:20250217T210417Z
LAST-MODIFIED;VALUE=DATE-TIME:20250217T210429Z
LOCATION:SALA DE REUNIÃO DAS COMISSÕES
URL:https://www.goiania.go.leg.br/sala-de-imprensa/eventos/reuniao-ordinar
 ia-da-comissao-de-constituicao-justica-e-redacao-ccjr-37
END:VEVENT
BEGIN:VTIMEZONE
TZID:Brazil/East
X-LIC-LOCATION:Brazil/East
BEGIN:DAYLIGHT
DTSTART;VALUE=DATE-TIME:20251019T010000
TZNAME:BRST
TZOFFSETFROM:-0300
TZOFFSETTO:-0200
END:DAYLIGHT
END:VTIMEZONE
END:VCALENDAR
