BEGIN:VCALENDAR
VERSION:2.0
PRODID:-//Plone.org//NONSGML plone.app.event//EN
X-WR-TIMEZONE:Brazil/East
BEGIN:VEVENT
SUMMARY:REUNIÃO ORDINÁRIA DA COMISSÃO DE CONSTITUIÇÃO\, JUSTIÇA E RE
 DAÇÃO  - (CCJR).
DTSTART;TZID=Brazil/East;VALUE=DATE-TIME:20250827T080000
DTEND;TZID=Brazil/East;VALUE=DATE-TIME:20250827T090000
DTSTAMP;VALUE=DATE-TIME:20260419T133339Z
UID:869afe43fe23449eb95c381962756317@www.goiania.go.leg.br
CONTACT:VEREADOR LUAN ALVES
CREATED;VALUE=DATE-TIME:20250217T204638Z
LAST-MODIFIED;VALUE=DATE-TIME:20250217T204659Z
LOCATION:SALA DE REUNIÃO DAS COMISSÕES
URL:https://www.goiania.go.leg.br/sala-de-imprensa/eventos/reuniao-ordinar
 ia-da-comissao-de-constituicao-justica-e-redacao-ccjr-28
END:VEVENT
BEGIN:VTIMEZONE
TZID:Brazil/East
X-LIC-LOCATION:Brazil/East
BEGIN:STANDARD
DTSTART;VALUE=DATE-TIME:20250215T230000
TZNAME:BRT
TZOFFSETFROM:-0200
TZOFFSETTO:-0300
END:STANDARD
END:VTIMEZONE
END:VCALENDAR
