BEGIN:VCALENDAR
VERSION:2.0
PRODID:-//Plone.org//NONSGML plone.app.event//EN
X-WR-TIMEZONE:Brazil/East
BEGIN:VEVENT
SUMMARY:REUNIÃO ORDINÁRIA DA CEI DA COMURG.
DTSTART;TZID=Brazil/East;VALUE=DATE-TIME:20230627T130000
DTEND;TZID=Brazil/East;VALUE=DATE-TIME:20230627T180000
DTSTAMP;VALUE=DATE-TIME:20260422T082205Z
UID:81ed251e6b6147c58aebfb04c7d608d4@www.goiania.go.leg.br
CONTACT:VEREADOR LÉO JOSÉ
CREATED;VALUE=DATE-TIME:20230626T140323Z
LAST-MODIFIED;VALUE=DATE-TIME:20230626T140434Z
LOCATION:SALA DE REUNIÃO DAS COMISSÕES
URL:https://www.goiania.go.leg.br/sala-de-imprensa/eventos/reuniao-ordinar
 ia-da-cei-da-comurg
END:VEVENT
BEGIN:VTIMEZONE
TZID:Brazil/East
X-LIC-LOCATION:Brazil/East
BEGIN:STANDARD
DTSTART;VALUE=DATE-TIME:20230225T230000
TZNAME:BRT
TZOFFSETFROM:-0200
TZOFFSETTO:-0300
END:STANDARD
END:VTIMEZONE
END:VCALENDAR
