BEGIN:VCALENDAR
VERSION:2.0
PRODID:-//Plone.org//NONSGML plone.app.event//EN
X-WR-TIMEZONE:Brazil/East
BEGIN:VEVENT
SUMMARY:REUNIÃO ONDE SERÃO DISCUTIDOS DIVERSOS ASSUNTOS PERTINENTES A CO
 MISSÃO DE PROTEÇÃO\, DIREITOS E DEFESA DOS ANIMAIS.
DTSTART;TZID=Brazil/East;VALUE=DATE-TIME:20200312T080000
DTEND;TZID=Brazil/East;VALUE=DATE-TIME:20200312T090000
DTSTAMP;VALUE=DATE-TIME:20260421T070545Z
UID:207dfba8bcf74bc0b8d4868940176a8f@www.goiania.go.leg.br
CONTACT:VEREADOR ZANDER 
CREATED;VALUE=DATE-TIME:20200306T135257Z
LAST-MODIFIED;VALUE=DATE-TIME:20200306T135341Z
LOCATION:SALA DE REUNIÃO DAS COMISSÕES
URL:https://www.goiania.go.leg.br/sala-de-imprensa/eventos/reuniao-onde-se
 rao-discutidos-diversos-assuntos-pertinentes-a-comissao-de-protecao-direit
 os-e-defesa-dos-animais
END:VEVENT
BEGIN:VTIMEZONE
TZID:Brazil/East
X-LIC-LOCATION:Brazil/East
BEGIN:STANDARD
DTSTART;VALUE=DATE-TIME:20200215T230000
TZNAME:BRT
TZOFFSETFROM:-0200
TZOFFSETTO:-0300
END:STANDARD
END:VTIMEZONE
END:VCALENDAR
