BEGIN:VCALENDAR
VERSION:2.0
PRODID:-//Plone.org//NONSGML plone.app.event//EN
X-WR-TIMEZONE:Brazil/East
BEGIN:VEVENT
SUMMARY:REUNIÃO JUNTO AOS CAPOEIRISTAS.
DTSTART;TZID=Brazil/East;VALUE=DATE-TIME:20180814T190000
DTEND;TZID=Brazil/East;VALUE=DATE-TIME:20180814T220000
DTSTAMP;VALUE=DATE-TIME:20260425T105323Z
UID:c3a2638df3ef473b83ee52dadeeb0008@www.goiania.go.leg.br
CONTACT:VEREADOR GCM ROMÁRIO POLICARPO
CREATED;VALUE=DATE-TIME:20180813T112311Z
LAST-MODIFIED;VALUE=DATE-TIME:20180813T112326Z
LOCATION:AUDITÓRIO CARLOS EURICO
URL:https://www.goiania.go.leg.br/sala-de-imprensa/eventos/reuniao-junto-a
 os-capoeiristas
END:VEVENT
BEGIN:VTIMEZONE
TZID:Brazil/East
X-LIC-LOCATION:Brazil/East
BEGIN:STANDARD
DTSTART;VALUE=DATE-TIME:20180217T230000
TZNAME:BRT
TZOFFSETFROM:-0200
TZOFFSETTO:-0300
END:STANDARD
END:VTIMEZONE
END:VCALENDAR
