BEGIN:VCALENDAR
VERSION:2.0
PRODID:-//Plone.org//NONSGML plone.app.event//EN
X-WR-TIMEZONE:Brazil/East
BEGIN:VEVENT
SUMMARY:REUNIÃO INTERNA DO MANDATO.
DTSTART;TZID=Brazil/East;VALUE=DATE-TIME:20260504T080000
DTEND;TZID=Brazil/East;VALUE=DATE-TIME:20260504T120000
DTSTAMP;VALUE=DATE-TIME:20260422T223254Z
UID:e7ff22aa0b964ba680314f2798d1e48a@www.goiania.go.leg.br
CONTACT:VEREADOR FABRÍCIO ROSA
CREATED;VALUE=DATE-TIME:20260422T204520Z
LAST-MODIFIED;VALUE=DATE-TIME:20260422T204539Z
LOCATION:SALA DE REUNIÕES DA PRESIDÊNCIA
URL:https://www.goiania.go.leg.br/sala-de-imprensa/eventos/reuniao-interna
 -do-mandato-4
END:VEVENT
BEGIN:VTIMEZONE
TZID:Brazil/East
X-LIC-LOCATION:Brazil/East
BEGIN:STANDARD
DTSTART;VALUE=DATE-TIME:20260221T230000
TZNAME:BRT
TZOFFSETFROM:-0200
TZOFFSETTO:-0300
END:STANDARD
END:VTIMEZONE
END:VCALENDAR
