BEGIN:VCALENDAR
VERSION:2.0
PRODID:-//Plone.org//NONSGML plone.app.event//EN
X-WR-TIMEZONE:Brazil/East
BEGIN:VEVENT
SUMMARY:REUNIÃO INTERNA DO GANINETE 36.
DTSTART;TZID=Brazil/East;VALUE=DATE-TIME:20250702T080000
DTEND;TZID=Brazil/East;VALUE=DATE-TIME:20250702T090000
DTSTAMP;VALUE=DATE-TIME:20260421T054044Z
UID:406c03d6e4034dc081b0bd906dd6eb92@www.goiania.go.leg.br
CONTACT:VEREADOR DR. GUSTAVO GOMIDES
CREATED;VALUE=DATE-TIME:20250626T114529Z
LAST-MODIFIED;VALUE=DATE-TIME:20250626T114549Z
LOCATION:SALA DE REUNIÃO DA PRESIDÊNCIA
URL:https://www.goiania.go.leg.br/sala-de-imprensa/eventos/reuniao-interna
 -do-ganinete-36
END:VEVENT
BEGIN:VTIMEZONE
TZID:Brazil/East
X-LIC-LOCATION:Brazil/East
BEGIN:STANDARD
DTSTART;VALUE=DATE-TIME:20250215T230000
TZNAME:BRT
TZOFFSETFROM:-0200
TZOFFSETTO:-0300
END:STANDARD
END:VTIMEZONE
END:VCALENDAR
