BEGIN:VCALENDAR
VERSION:2.0
PRODID:-//Plone.org//NONSGML plone.app.event//EN
X-WR-TIMEZONE:Brazil/East
BEGIN:VEVENT
SUMMARY:REUNIÃO INTERNA DO GABINETE 7.
DTSTART;TZID=Brazil/East;VALUE=DATE-TIME:20231122T150000
DTEND;TZID=Brazil/East;VALUE=DATE-TIME:20231122T190000
DTSTAMP;VALUE=DATE-TIME:20260421T030154Z
UID:a9038d3dcbb54ae5a4b45ca73aa8110f@www.goiania.go.leg.br
CONTACT:VEREADOR LUCAS KITÃO
CREATED;VALUE=DATE-TIME:20231120T145959Z
LAST-MODIFIED;VALUE=DATE-TIME:20231120T150229Z
LOCATION:SALA DE REUNIÃO DAS COMISSÕES
URL:https://www.goiania.go.leg.br/sala-de-imprensa/eventos/reuniao-interna
 -do-gabinete-7
END:VEVENT
BEGIN:VTIMEZONE
TZID:Brazil/East
X-LIC-LOCATION:Brazil/East
BEGIN:DAYLIGHT
DTSTART;VALUE=DATE-TIME:20231015T010000
TZNAME:BRST
TZOFFSETFROM:-0300
TZOFFSETTO:-0200
END:DAYLIGHT
END:VTIMEZONE
END:VCALENDAR
