BEGIN:VCALENDAR
VERSION:2.0
PRODID:-//Plone.org//NONSGML plone.app.event//EN
X-WR-TIMEZONE:Brazil/East
BEGIN:VEVENT
SUMMARY:REUNIÃO INTERNA DO GABINETE 33.
DTSTART;TZID=Brazil/East;VALUE=DATE-TIME:20190902T100000
DTEND;TZID=Brazil/East;VALUE=DATE-TIME:20190902T120000
DTSTAMP;VALUE=DATE-TIME:20260422T050240Z
UID:f3d58a3611ae4ff9a5dcf5b2be95eb9f@www.goiania.go.leg.br
CONTACT:VEREADOR DIVINO RODRIGUES
CREATED;VALUE=DATE-TIME:20190830T221536Z
LAST-MODIFIED;VALUE=DATE-TIME:20190830T221544Z
LOCATION:SALA DE REUNIÃO DA PRESIDÊNCIA
URL:https://www.goiania.go.leg.br/sala-de-imprensa/eventos/reuniao-interna
 -do-gabinete-33
END:VEVENT
BEGIN:VTIMEZONE
TZID:Brazil/East
X-LIC-LOCATION:Brazil/East
BEGIN:STANDARD
DTSTART;VALUE=DATE-TIME:20190216T230000
TZNAME:BRT
TZOFFSETFROM:-0200
TZOFFSETTO:-0300
END:STANDARD
END:VTIMEZONE
END:VCALENDAR
