BEGIN:VCALENDAR
VERSION:2.0
PRODID:-//Plone.org//NONSGML plone.app.event//EN
X-WR-TIMEZONE:Brazil/East
BEGIN:VEVENT
SUMMARY:REUNIÃO INTERNA DO GABINETE 02.
DTSTART;TZID=Brazil/East;VALUE=DATE-TIME:20211126T080000
DTEND;TZID=Brazil/East;VALUE=DATE-TIME:20211126T113000
DTSTAMP;VALUE=DATE-TIME:20260419T214458Z
UID:551991387ab748e1ab2a98287da08d22@www.goiania.go.leg.br
CONTACT:VEREADORA GABRIELA RODART
CREATED;VALUE=DATE-TIME:20211124T192458Z
LAST-MODIFIED;VALUE=DATE-TIME:20211124T192514Z
LOCATION:SALA DE REUNIÃO DA PRESIDÊNCIA
URL:https://www.goiania.go.leg.br/sala-de-imprensa/eventos/reuniao-interna
 -do-gabinete-02-3
END:VEVENT
BEGIN:VTIMEZONE
TZID:Brazil/East
X-LIC-LOCATION:Brazil/East
BEGIN:DAYLIGHT
DTSTART;VALUE=DATE-TIME:20211017T010000
TZNAME:BRST
TZOFFSETFROM:-0300
TZOFFSETTO:-0200
END:DAYLIGHT
END:VTIMEZONE
END:VCALENDAR
