BEGIN:VCALENDAR
VERSION:2.0
PRODID:-//Plone.org//NONSGML plone.app.event//EN
X-WR-TIMEZONE:Brazil/East
BEGIN:VEVENT
SUMMARY:REUNIÃO INTERNA DE EQUIPE DO GABINETE 33.
DTSTART;TZID=Brazil/East;VALUE=DATE-TIME:20250311T130000
DTEND;TZID=Brazil/East;VALUE=DATE-TIME:20250311T150000
DTSTAMP;VALUE=DATE-TIME:20260422T170342Z
UID:c7a60f10f7f544dcb2a83020ec24818b@www.goiania.go.leg.br
CONTACT:VEREADOR FABRICIO ROSA
CREATED;VALUE=DATE-TIME:20250306T133548Z
LAST-MODIFIED;VALUE=DATE-TIME:20250306T133736Z
LOCATION:SALA DE REUNIÃO DA PRESIDÊNCIA
URL:https://www.goiania.go.leg.br/sala-de-imprensa/eventos/reuniao-interna
 -de-equipe-do-gabinete-33
END:VEVENT
BEGIN:VTIMEZONE
TZID:Brazil/East
X-LIC-LOCATION:Brazil/East
BEGIN:STANDARD
DTSTART;VALUE=DATE-TIME:20250215T230000
TZNAME:BRT
TZOFFSETFROM:-0200
TZOFFSETTO:-0300
END:STANDARD
END:VTIMEZONE
END:VCALENDAR
